BEGIN:VCALENDAR
VERSION:2.0
PRODID:-//Aero Law Group PC - ECPv6.15.15//NONSGML v1.0//EN
CALSCALE:GREGORIAN
METHOD:PUBLISH
X-ORIGINAL-URL:https://aerolawgroup.com
X-WR-CALDESC:Events for Aero Law Group PC
REFRESH-INTERVAL;VALUE=DURATION:PT1H
X-Robots-Tag:noindex
X-PUBLISHED-TTL:PT1H
BEGIN:VTIMEZONE
TZID:America/Los_Angeles
BEGIN:DAYLIGHT
TZOFFSETFROM:-0800
TZOFFSETTO:-0700
TZNAME:PDT
DTSTART:20140309T100000
END:DAYLIGHT
BEGIN:STANDARD
TZOFFSETFROM:-0700
TZOFFSETTO:-0800
TZNAME:PST
DTSTART:20141102T090000
END:STANDARD
BEGIN:DAYLIGHT
TZOFFSETFROM:-0800
TZOFFSETTO:-0700
TZNAME:PDT
DTSTART:20150308T100000
END:DAYLIGHT
BEGIN:STANDARD
TZOFFSETFROM:-0700
TZOFFSETTO:-0800
TZNAME:PST
DTSTART:20151101T090000
END:STANDARD
BEGIN:DAYLIGHT
TZOFFSETFROM:-0800
TZOFFSETTO:-0700
TZNAME:PDT
DTSTART:20160313T100000
END:DAYLIGHT
BEGIN:STANDARD
TZOFFSETFROM:-0700
TZOFFSETTO:-0800
TZNAME:PST
DTSTART:20161106T090000
END:STANDARD
BEGIN:DAYLIGHT
TZOFFSETFROM:-0800
TZOFFSETTO:-0700
TZNAME:PDT
DTSTART:20170312T100000
END:DAYLIGHT
BEGIN:STANDARD
TZOFFSETFROM:-0700
TZOFFSETTO:-0800
TZNAME:PST
DTSTART:20171105T090000
END:STANDARD
BEGIN:DAYLIGHT
TZOFFSETFROM:-0800
TZOFFSETTO:-0700
TZNAME:PDT
DTSTART:20180311T100000
END:DAYLIGHT
BEGIN:STANDARD
TZOFFSETFROM:-0700
TZOFFSETTO:-0800
TZNAME:PST
DTSTART:20181104T090000
END:STANDARD
BEGIN:DAYLIGHT
TZOFFSETFROM:-0800
TZOFFSETTO:-0700
TZNAME:PDT
DTSTART:20190310T100000
END:DAYLIGHT
BEGIN:STANDARD
TZOFFSETFROM:-0700
TZOFFSETTO:-0800
TZNAME:PST
DTSTART:20191103T090000
END:STANDARD
BEGIN:DAYLIGHT
TZOFFSETFROM:-0800
TZOFFSETTO:-0700
TZNAME:PDT
DTSTART:20200308T100000
END:DAYLIGHT
BEGIN:STANDARD
TZOFFSETFROM:-0700
TZOFFSETTO:-0800
TZNAME:PST
DTSTART:20201101T090000
END:STANDARD
END:VTIMEZONE
BEGIN:VEVENT
DTSTART;VALUE=DATE:20190502
DTEND;VALUE=DATE:20190504
DTSTAMP:20260421T030326
CREATED:20190430T232233Z
LAST-MODIFIED:20190430T232233Z
UID:1839-1556755200-1556927999@aerolawgroup.com
SUMMARY:NBAA Business Aviation Taxes Seminar
DESCRIPTION:The NBAA Business Aviation Taxes Seminar is an important conference for our industry.  Nathan Pietila will be headed to Marina del Rey for the information-filled event.
URL:https://aerolawgroup.com/event/nbaa-business-aviation-taxes-seminar-3/
LOCATION:The Ritz-Carlton Marina del Rey\, 4375 Admiralty Way\, Marina del Rey\, California\, 90292
CATEGORIES:Seminars
END:VEVENT
BEGIN:VEVENT
DTSTART;VALUE=DATE:20160609
DTEND;VALUE=DATE:20160610
DTSTAMP:20260421T030326
CREATED:20160201T202021Z
LAST-MODIFIED:20160201T202021Z
UID:1807-1465430400-1465516799@aerolawgroup.com
SUMMARY:NBAA Regional Forum
DESCRIPTION:Nathan Pietila and Rebecca Mares will be attending this event.
URL:https://aerolawgroup.com/event/nbaa-regional-forum/
LOCATION:Van Nuys Airport\, 16461 Sherman Way\, Van Nuys\, CA\, 91406\, United States
CATEGORIES:Seminars
END:VEVENT
BEGIN:VEVENT
DTSTART;VALUE=DATE:20160204
DTEND;VALUE=DATE:20160205
DTSTAMP:20260421T030326
CREATED:20160128T234358Z
LAST-MODIFIED:20160128T234358Z
UID:1797-1454544000-1454630399@aerolawgroup.com
SUMMARY:Drone Law Seminar
DESCRIPTION:Becky Mares will represent Aero Law Group by attending this seminar.
URL:https://aerolawgroup.com/event/drone-law-seminar/
LOCATION:Hilton Seattle\, 1301 6th AVE\, Seattle\, WA\, 98101\, United States
CATEGORIES:Seminars
END:VEVENT
BEGIN:VEVENT
DTSTART;TZID=America/Los_Angeles:20160201T080000
DTEND;TZID=America/Los_Angeles:20160201T170000
DTSTAMP:20260421T030326
CREATED:20160201T204614Z
LAST-MODIFIED:20160201T204614Z
UID:1811-1454313600-1454346000@aerolawgroup.com
SUMMARY:KCBA 43rd Annual PNW Aviation and Insurance Conference
DESCRIPTION:The entire team will attending this event that our own David Voyles will be planning.
URL:https://aerolawgroup.com/event/kcba-43rd-annual-pnw-aviation-and-insurance-conference/
LOCATION:Unnamed Venue\, Leavenworth\, WA\, United States
CATEGORIES:Seminars
END:VEVENT
BEGIN:VEVENT
DTSTART;VALUE=DATE:20150928
DTEND;VALUE=DATE:20150929
DTSTAMP:20260421T030326
CREATED:20150522T153526Z
LAST-MODIFIED:20150522T153526Z
UID:1795-1443398400-1443484799@aerolawgroup.com
SUMMARY:Plane Dollars & Sense Seminar with Tom Alston
DESCRIPTION:We will be speaking at this seminar.
URL:https://aerolawgroup.com/event/plane-dollars-sense-seminar-with-tom-alston-4/
LOCATION:Clay Lacy Aviation\, Seattle\, WA
CATEGORIES:Seminars
END:VEVENT
BEGIN:VEVENT
DTSTART;VALUE=DATE:20150724
DTEND;VALUE=DATE:20150725
DTSTAMP:20260421T030326
CREATED:20150522T153429Z
LAST-MODIFIED:20150522T153429Z
UID:1794-1437696000-1437782399@aerolawgroup.com
SUMMARY:Plane Dollars & Sense Seminar with Tom Alston
DESCRIPTION:We will be speaking at this seminar.
URL:https://aerolawgroup.com/event/plane-dollars-sense-seminar-with-tom-alston-3/
LOCATION:Astro Aviation\, Reno\, NV
CATEGORIES:Seminars
END:VEVENT
BEGIN:VEVENT
DTSTART;VALUE=DATE:20150720
DTEND;VALUE=DATE:20150721
DTSTAMP:20260421T030326
CREATED:20150522T153318Z
LAST-MODIFIED:20150522T153318Z
UID:1793-1437350400-1437436799@aerolawgroup.com
SUMMARY:Plane Dollars & Sense Seminar with Tom Alston
DESCRIPTION:We will be speaking at this seminar.
URL:https://aerolawgroup.com/event/plane-dollars-sense-seminar-with-tom-alston-2/
LOCATION:Sterling Executive Charter\, Fresno\, CA
CATEGORIES:Seminars
END:VEVENT
BEGIN:VEVENT
DTSTART;VALUE=DATE:20150714
DTEND;VALUE=DATE:20150716
DTSTAMP:20260421T030326
CREATED:20150330T154609Z
LAST-MODIFIED:20150330T154609Z
UID:1785-1436832000-1437004799@aerolawgroup.com
SUMMARY:Conklin & de Decker Commercial Operators Tax Seminar
DESCRIPTION:Nathan Pietila will be attending this seminar.
URL:https://aerolawgroup.com/event/conklin-de-decker-commercial-operators-tax-seminar/
LOCATION:Westfields Marriott\, 14750 Conference Center Dr.\, Chantilly\, VA\, United States
CATEGORIES:Seminars
END:VEVENT
BEGIN:VEVENT
DTSTART;VALUE=DATE:20150608
DTEND;VALUE=DATE:20150609
DTSTAMP:20260421T030326
CREATED:20150530T160743Z
LAST-MODIFIED:20150530T160743Z
UID:1796-1433721600-1433807999@aerolawgroup.com
SUMMARY:Plane Dollars & Sense Seminar with Tom Alston
DESCRIPTION:Nathan Pietila will be speaking at this seminar.
URL:https://aerolawgroup.com/event/plane-dollars-sense-seminar-with-tom-alston-5/
LOCATION:Sun Air Jets LLC\, Camarillo\, CA
CATEGORIES:Seminars
END:VEVENT
BEGIN:VEVENT
DTSTART;VALUE=DATE:20150508
DTEND;VALUE=DATE:20150509
DTSTAMP:20260421T030326
CREATED:20150330T153039Z
LAST-MODIFIED:20150330T153039Z
UID:1780-1431043200-1431129599@aerolawgroup.com
SUMMARY:NBAA Business Aviation Taxes Seminar
DESCRIPTION:Aero Law Group sponsored seminar; John Schmidt\, Nathan Pietila\, and Timothy Austin will attend.
URL:https://aerolawgroup.com/event/nbaa-business-aviation-taxes-seminar/
LOCATION:The Adolphus Hotel\, 1321 Commerce Street\, Dallas\, TX\, 75202\, United States
CATEGORIES:Seminars
END:VEVENT
END:VCALENDAR